BEGIN:VCALENDAR
VERSION:2.0
PRODID:-//wp-events-plugin.com//6.6.3//EN
BEGIN:VEVENT
UID:120@punb.benova.com.my
DTSTART:20241105T080000Z
DTEND:20241105T173000Z
DTSTAMP:20241210T022932Z
URL:https://punb.benova.com.my/ms/events/taklimat-seminar-e-invois-masa-de
 pan-perniagaan-anda/
SUMMARY:Taklimat - Seminar e-Invois: Masa Depan Perniagaan Anda!
DESCRIPTION:
CATEGORIES:Calendar of Activities
LOCATION:Fakulti Kejuruteraan\, Universiti Putra Malaysia (UPM)\, Fakulti K
 ejuruteraan\, Universiti Putra Malaysia (UPM)\, Selangor\, Malaysia
X-APPLE-STRUCTURED-LOCATION;VALUE=URI;X-ADDRESS=Fakulti Kejuruteraan\, Univ
 ersiti Putra Malaysia (UPM)\, Selangor\, Malaysia;X-APPLE-RADIUS=100;X-TIT
 LE=Fakulti Kejuruteraan\, Universiti Putra Malaysia (UPM):geo:0,0
END:VEVENT
END:VCALENDAR