BEGIN:VCALENDAR
VERSION:2.0
PRODID:-//wp-events-plugin.com//6.6.3//EN
BEGIN:VEVENT
UID:90@punb.benova.com.my
DTSTART:20240923T093000Z
DTEND:20240923T120000Z
DTSTAMP:20241209T070638Z
URL:https://punb.benova.com.my/ms/events/taklimat-pembiayaan-perniagaan-pu
 nb-secara-bersemuka-14/
SUMMARY:Taklimat Pembiayaan Perniagaan PUNB (Secara Bersemuka)
DESCRIPTION:Sesi Pendaftaran: 9.30am\n\nSesi Perangan Taklimat: 10.00 am\n\
 nKlik di sini untuk Pendaftaran / Pengesahan Kehadiran.
CATEGORIES:Calendar of Activities,Pre-training
LOCATION:https://www.punb.com.my/ms/mengenai-kami/hubungi-kami/rangkaian-pe
 jabat-wilayah-cawangan-punb
END:VEVENT
END:VCALENDAR