BEGIN:VCALENDAR
VERSION:2.0
PRODID:-//wp-events-plugin.com//6.6.3//EN
BEGIN:VEVENT
UID:85@punb.benova.com.my
DTSTART:20240911T100000Z
DTEND:20240911T180000Z
DTSTAMP:20241209T061426Z
URL:https://punb.benova.com.my/ms/events/seminar-penulisan-rancangan-perni
 agaan/
SUMMARY:Seminar Penulisan Rancangan Perniagaan
DESCRIPTION:Sempena Program Real Business Challenge (RBC) 1.0 : Innovation 
 in Aqua Universiti Malaysia Terengganu (UMT)\n\nSesi Penerangan Taklimat: 
 10.00 am
CATEGORIES:Pre-training,Training
LOCATION:#
END:VEVENT
END:VCALENDAR