BEGIN:VCALENDAR
VERSION:2.0
PRODID:-//wp-events-plugin.com//6.6.3//EN
BEGIN:VEVENT
UID:193@punb.benova.com.my
DTSTART:20240423T083000Z
DTEND:20240424T173000Z
DTSTAMP:20241211T090436Z
URL:https://punb.benova.com.my/ms/events/selling-skills-2/
SUMMARY:Selling Skills
DESCRIPTION:
CATEGORIES:Entrepreneur Activities,Training
LOCATION:Raia Hotel & Convention Centre Kuching\, Sarawak\, Raia Hotel &amp
 \; Convention Centre Kuching\, Sarawak\, Malaysia
X-APPLE-STRUCTURED-LOCATION;VALUE=URI;X-ADDRESS=Raia Hotel & Convention Cen
 tre Kuching\, Sarawak\, Malaysia;X-APPLE-RADIUS=100;X-TITLE=Raia Hotel & C
 onvention Centre Kuching\, Sarawak:geo:0,0
END:VEVENT
END:VCALENDAR