BEGIN:VCALENDAR
VERSION:2.0
PRODID:-//wp-events-plugin.com//6.6.3//EN
BEGIN:VEVENT
UID:72@punb.benova.com.my
DTSTART:20240823T100000Z
DTEND:20240823T220000Z
DTSTAMP:20241209T033803Z
URL:https://punb.benova.com.my/ms/events/retail-up-roadshow-edisi-wilayah-
 pantai-timur/
SUMMARY:Retail Up! Roadshow Edisi Wilayah Pantai Timur
DESCRIPTION:Klik di sini untuk Pendaftaran / Pengesahan Kehadiran.\n\n
ATTACH;FMTTYPE=image/jpeg:https://punb.benova.com.my/wp-content/uploads/20
 24/12/retail-up-roadshow-edisi-wilayah-pantai-timur-img1.jpg
CATEGORIES:Calendar of Activities
LOCATION:Centre Atrium\, KTCC Mall\, Kuala Terengganu\, Terengganu\, Centre
  Atrium\, KTCC Mall\, Kuala Terengganu\, Terengganu\, Malaysia
X-APPLE-STRUCTURED-LOCATION;VALUE=URI;X-ADDRESS=Centre Atrium\, KTCC Mall\,
  Kuala Terengganu\, Terengganu\, Malaysia;X-APPLE-RADIUS=100;X-TITLE=Centr
 e Atrium\, KTCC Mall\, Kuala Terengganu\, Terengganu:geo:0,0
END:VEVENT
END:VCALENDAR