BEGIN:VCALENDAR
VERSION:2.0
PRODID:-//wp-events-plugin.com//6.6.3//EN
BEGIN:VEVENT
UID:65@punb.benova.com.my
DTSTART:20240805T083000Z
DTEND:20240805T163000Z
DTSTAMP:20241209T030604Z
URL:https://punb.benova.com.my/ms/events/program-padanan-perniagaan-kontra
 ktor-dan-vendor-bumiputera-negeri-kedah/
SUMMARY:Program Padanan Perniagaan Kontraktor dan Vendor Bumiputera Negeri 
 Kedah
DESCRIPTION:Klik di sini untuk Pendaftaran / Pengesahan Kehadiran.
CATEGORIES:Calendar of Activities
LOCATION:Syarikat Arch Design Specialist Sdn. Bhd\, Lot 443\, Langgar\, 065
 00 Alor Setar\, Kedah\, Malaysia
X-APPLE-STRUCTURED-LOCATION;VALUE=URI;X-ADDRESS=Lot 443\, Langgar\, 06500 A
 lor Setar\, Kedah\, Malaysia;X-APPLE-RADIUS=100;X-TITLE=Syarikat Arch Desi
 gn Specialist Sdn. Bhd:geo:0,0
END:VEVENT
END:VCALENDAR