BEGIN:VCALENDAR
VERSION:2.0
PRODID:-//wp-events-plugin.com//6.6.3//EN
BEGIN:VEVENT
UID:154@punb.benova.com.my
DTSTART:20240909T080000Z
DTEND:20240913T220000Z
DTSTAMP:20241211T060049Z
URL:https://punb.benova.com.my/ms/events/program-motivasi-pembangunan-usah
 awan-jumper-2/
SUMMARY:Program Motivasi & Pembangunan Usahawan JumPER
DESCRIPTION:
CATEGORIES:Entrepreneur Activities,Training
LOCATION:Bagan Lalang\, Selangor\, Bagan Lalang\, Selangor\, Malaysia
X-APPLE-STRUCTURED-LOCATION;VALUE=URI;X-ADDRESS=Bagan Lalang\, Selangor\, M
 alaysia;X-APPLE-RADIUS=100;X-TITLE=Bagan Lalang\, Selangor:geo:0,0
END:VEVENT
END:VCALENDAR