BEGIN:VCALENDAR
VERSION:2.0
PRODID:-//wp-events-plugin.com//6.6.3//EN
BEGIN:VEVENT
UID:67@punb.benova.com.my
DTSTART:20240810T083000Z
DTEND:20240810T173000Z
DTSTAMP:20241209T031448Z
URL:https://punb.benova.com.my/ms/events/persatuan-rakan-niaga-strategik-m
 alaysia-pernisma/
SUMMARY:Persatuan Rakan Niaga Strategik Malaysia (PERNISMA)
DESCRIPTION:Klik di sini untuk Pendaftaran / Pengesahan Kehadiran.
CATEGORIES:Calendar of Activities
LOCATION:Ipoh\, Perak\, Ipoh\, Perak\, Malaysia
X-APPLE-STRUCTURED-LOCATION;VALUE=URI;X-ADDRESS=Ipoh\, Perak\, Malaysia;X-A
 PPLE-RADIUS=100;X-TITLE=Ipoh\, Perak:geo:0,0
END:VEVENT
END:VCALENDAR