BEGIN:VCALENDAR
VERSION:2.0
PRODID:-//wp-events-plugin.com//6.6.3//EN
BEGIN:VEVENT
UID:207@punb.benova.com.my
DTSTART:20240129T083000Z
DTEND:20240131T173000Z
DTSTAMP:20241212T015958Z
URL:https://punb.benova.com.my/ms/events/penyelaras-keselamatan-dan-kesiha
 tan-pekerjaan-osh-c-3/
SUMMARY:Penyelaras Keselamatan dan Kesihatan Pekerjaan (OSH-C)
DESCRIPTION:File\n\n Brochure - Safety Coordinator KL Johor Terengganu709
CATEGORIES:Entrepreneur Activities,Training
LOCATION:TROVE Johor Bahru\, Johor\, Jalan Dato Abdullah Tahir\, Taman Abad
 \, 80300 Johor Bahru\,  Johor\, Malaysia
X-APPLE-STRUCTURED-LOCATION;VALUE=URI;X-ADDRESS=Jalan Dato Abdullah Tahir\,
  Taman Abad\, 80300 Johor Bahru\,  Johor\, Malaysia;X-APPLE-RADIUS=100;X-T
 ITLE=TROVE Johor Bahru\, Johor:geo:0,0
END:VEVENT
END:VCALENDAR