BEGIN:VCALENDAR
VERSION:2.0
PRODID:-//wp-events-plugin.com//6.6.3//EN
BEGIN:VEVENT
UID:112@punb.benova.com.my
DTSTART:20241025T100000Z
DTEND:20241027T220000Z
DTSTAMP:20241210T013152Z
URL:https://punb.benova.com.my/ms/events/pameran-program-big-sabah-sale/
SUMMARY:Pameran - Program Big Sabah Sale
DESCRIPTION:
CATEGORIES:Calendar of Activities
LOCATION:Sabah International Convention Centre (SICC)\, Sabah\, Sabah Inter
 national Convention Centre (SICC)\, Sabah\, Malaysia
X-APPLE-STRUCTURED-LOCATION;VALUE=URI;X-ADDRESS=Sabah International Convent
 ion Centre (SICC)\, Sabah\, Malaysia;X-APPLE-RADIUS=100;X-TITLE=Sabah Inte
 rnational Convention Centre (SICC)\, Sabah:geo:0,0
END:VEVENT
END:VCALENDAR