BEGIN:VCALENDAR
VERSION:2.0
PRODID:-//wp-events-plugin.com//6.6.3//EN
BEGIN:VEVENT
UID:123@punb.benova.com.my
DTSTART:20241107T080000Z
DTEND:20241107T173000Z
DTSTAMP:20241210T024216Z
URL:https://punb.benova.com.my/ms/events/pameran-mtdc-road2growth-2024/
SUMMARY:Pameran - MTDC Road2Growth 2024
DESCRIPTION:
CATEGORIES:Calendar of Activities
LOCATION:Renaissance Hotel\, Kuala Lumpur\, Renaissance Hotel\, Kuala Lumpu
 r\, Malaysia
X-APPLE-STRUCTURED-LOCATION;VALUE=URI;X-ADDRESS=Renaissance Hotel\, Kuala L
 umpur\, Malaysia;X-APPLE-RADIUS=100;X-TITLE=Renaissance Hotel\, Kuala Lump
 ur:geo:0,0
END:VEVENT
END:VCALENDAR