BEGIN:VCALENDAR
VERSION:2.0
PRODID:-//wp-events-plugin.com//6.6.3//EN
BEGIN:VEVENT
UID:122@punb.benova.com.my
DTSTART:20241106T080000Z
DTEND:20241106T173000Z
DTSTAMP:20241210T023821Z
URL:https://punb.benova.com.my/ms/events/pameran-auto-forum-2024/
SUMMARY:Pameran - AUTO FORUM 2024
DESCRIPTION:\n\n
ATTACH;FMTTYPE=image/jpeg:https://punb.benova.com.my/wp-content/uploads/20
 24/12/pameran-autoform-img1.jpg
CATEGORIES:Calendar of Activities
LOCATION:Putrajaya International Convention Centre (PICC)\, Putrajaya\, Put
 rajaya International Convention Centre (PICC)\, Putrajaya\, Selangor\, 620
 00\, Malaysia
X-APPLE-STRUCTURED-LOCATION;VALUE=URI;X-ADDRESS=Putrajaya International Con
 vention Centre (PICC)\, Putrajaya\, Selangor\, 62000\, Malaysia;X-APPLE-RA
 DIUS=100;X-TITLE=Putrajaya International Convention Centre (PICC)\, Putraj
 aya:geo:0,0
END:VEVENT
END:VCALENDAR