BEGIN:VCALENDAR
VERSION:2.0
PRODID:-//wp-events-plugin.com//6.6.3//EN
BEGIN:VEVENT
UID:102@punb.benova.com.my
DTSTART:20241009T090000Z
DTEND:20241010T180000Z
DTSTAMP:20241209T090746Z
URL:https://punb.benova.com.my/ms/events/pameran-adfim-national-conference
 -on-integrity-governance-2024/
SUMMARY:Pameran - ADFIM National Conference on Integrity & Governance 2024
DESCRIPTION:
CATEGORIES:Calendar of Activities
LOCATION:Concorde Hotel Kuala Lumpur\, 2\, Jln Sultan Ismail\, Kuala Lumpur
 \, 50250 Kuala Lumpur\, Wilayah Persekutuan Kuala Lumpur\, Malaysia
X-APPLE-STRUCTURED-LOCATION;VALUE=URI;X-ADDRESS=2\, Jln Sultan Ismail\, Kua
 la Lumpur\, 50250 Kuala Lumpur\, Wilayah Persekutuan Kuala Lumpur\, Malays
 ia;X-APPLE-RADIUS=100;X-TITLE=Concorde Hotel Kuala Lumpur:geo:0,0
END:VEVENT
END:VCALENDAR