BEGIN:VCALENDAR
VERSION:2.0
PRODID:-//wp-events-plugin.com//6.6.3//EN
BEGIN:VEVENT
UID:161@punb.benova.com.my
DTSTART:20240813T083000Z
DTEND:20240814T173000Z
DTSTAMP:20241211T062415Z
URL:https://punb.benova.com.my/ms/events/motivasi-jati-diri/
SUMMARY:Motivasi & Jati Diri
DESCRIPTION:
CATEGORIES:Entrepreneur Activities,Training
LOCATION:Sutra Beach Resort\, Terengganu\, Sutra Beach Resort\, Terengganu\
 , Malaysia
X-APPLE-STRUCTURED-LOCATION;VALUE=URI;X-ADDRESS=Sutra Beach Resort\, Tereng
 ganu\, Malaysia;X-APPLE-RADIUS=100;X-TITLE=Sutra Beach Resort\, Terengganu
 :geo:0,0
END:VEVENT
END:VCALENDAR