BEGIN:VCALENDAR
VERSION:2.0
PRODID:-//wp-events-plugin.com//6.6.3//EN
BEGIN:VEVENT
UID:24@punb.benova.com.my
DTSTART:20240229T083000Z
DTEND:20240302T173000Z
DTSTAMP:20241206T065031Z
URL:https://punb.benova.com.my/ms/events/kongres-ekonomi-bumiputera-2024/
SUMMARY:Kongres Ekonomi Bumiputera 2024
DESCRIPTION:
CATEGORIES:Calendar of Activities
LOCATION:Putrajaya International Convention Centre (PICC)\, Putrajaya\, Put
 rajaya International Convention Centre (PICC)\, Putrajaya\, Selangor\, 620
 00\, Malaysia
X-APPLE-STRUCTURED-LOCATION;VALUE=URI;X-ADDRESS=Putrajaya International Con
 vention Centre (PICC)\, Putrajaya\, Selangor\, 62000\, Malaysia;X-APPLE-RA
 DIUS=100;X-TITLE=Putrajaya International Convention Centre (PICC)\, Putraj
 aya:geo:0,0
END:VEVENT
END:VCALENDAR