BEGIN:VCALENDAR
VERSION:2.0
PRODID:-//wp-events-plugin.com//6.6.3//EN
BEGIN:VEVENT
UID:62@punb.benova.com.my
DTSTART:20240801T090000Z
DTEND:20240804T170000Z
DTSTAMP:20241209T025242Z
URL:https://punb.benova.com.my/ms/events/international-islamic-trade-touri
 sm-expo-iitte-2024/
SUMMARY:International Islamic Trade & Tourism Expo (IITTE) 2024
DESCRIPTION:Klik di sini untuk Pendaftaran / Pengesahan Kehadiran.
CATEGORIES:Calendar of Activities
LOCATION:Melaka International Trada Centre (MITC)\, Ayer Keroh\, Melaka\, M
 elaka International Trade Centre (MITC)\, Ayer Keroh\, Melaka\, Malaysia
X-APPLE-STRUCTURED-LOCATION;VALUE=URI;X-ADDRESS=Melaka International Trade 
 Centre (MITC)\, Ayer Keroh\, Melaka\, Malaysia;X-APPLE-RADIUS=100;X-TITLE=
 Melaka International Trada Centre (MITC)\, Ayer Keroh\, Melaka:geo:0,0
END:VEVENT
END:VCALENDAR