BEGIN:VCALENDAR
VERSION:2.0
PRODID:-//wp-events-plugin.com//6.6.3//EN
BEGIN:VEVENT
UID:209@punb.benova.com.my
DTSTART:20241201T083000Z
DTEND:20241202T173000Z
DTSTAMP:20241212T023446Z
URL:https://punb.benova.com.my/ms/events/digital-marketing-tiktok-advanced
 -level/
SUMMARY:Digital Marketing: TikTok Advanced Level
DESCRIPTION:
CATEGORIES:Entrepreneur Activities,Training
LOCATION:Raia Hotel Kota Kinabalu\, Sabah\, Raia Hotel Kota Kinabalu\, Saba
 h\, Malaysia
X-APPLE-STRUCTURED-LOCATION;VALUE=URI;X-ADDRESS=Raia Hotel Kota Kinabalu\, 
 Sabah\, Malaysia;X-APPLE-RADIUS=100;X-TITLE=Raia Hotel Kota Kinabalu\, Sab
 ah:geo:0,0
END:VEVENT
END:VCALENDAR