BEGIN:VCALENDAR
VERSION:2.0
PRODID:-//wp-events-plugin.com//6.6.3//EN
BEGIN:VEVENT
UID:162@punb.benova.com.my
DTSTART:20240814T083000Z
DTEND:20240815T173000Z
DTSTAMP:20241211T062608Z
URL:https://punb.benova.com.my/ms/events/cukai-untuk-perniagaan-sesi-wilay
 ah-utara/
SUMMARY:Cukai Untuk Perniagaan (Sesi Wilayah Utara)
DESCRIPTION:
CATEGORIES:Entrepreneur Activities,Training
LOCATION:The Light Hotel Penang\, Lebuh Tenggiri 2\, Bandar Seberang Jaya\,
  13700 Seberang Jaya\, Pulau Pinang\, Malaysia
X-APPLE-STRUCTURED-LOCATION;VALUE=URI;X-ADDRESS=Lebuh Tenggiri 2\, Bandar S
 eberang Jaya\, 13700 Seberang Jaya\, Pulau Pinang\, Malaysia;X-APPLE-RADIU
 S=100;X-TITLE=The Light Hotel Penang:geo:0,0
END:VEVENT
END:VCALENDAR