BEGIN:VCALENDAR
VERSION:2.0
PRODID:-//wp-events-plugin.com//6.6.3//EN
BEGIN:VEVENT
UID:195@punb.benova.com.my
DTSTART:20240423T083000Z
DTEND:20240424T173000Z
DTSTAMP:20241211T090715Z
URL:https://punb.benova.com.my/ms/events/artificial-intelligence-ai-for-bu
 siness-2/
SUMMARY:Artificial Intelligence (AI) For Business
DESCRIPTION:
CATEGORIES:Entrepreneur Activities,Training
LOCATION:The Light Hotel Penang\, Lebuh Tenggiri 2\, Bandar Seberang Jaya\,
  13700 Seberang Jaya\, Pulau Pinang\, Malaysia
X-APPLE-STRUCTURED-LOCATION;VALUE=URI;X-ADDRESS=Lebuh Tenggiri 2\, Bandar S
 eberang Jaya\, 13700 Seberang Jaya\, Pulau Pinang\, Malaysia;X-APPLE-RADIU
 S=100;X-TITLE=The Light Hotel Penang:geo:0,0
END:VEVENT
END:VCALENDAR