BEGIN:VCALENDAR
VERSION:2.0
PRODID:-//wp-events-plugin.com//6.6.3//EN
BEGIN:VEVENT
UID:164@punb.benova.com.my
DTSTART:20240820T083000Z
DTEND:20240821T173000Z
DTSTAMP:20241211T063126Z
URL:https://punb.benova.com.my/ms/events/ai-for-business/
SUMMARY:AI for Business
DESCRIPTION:
CATEGORIES:Entrepreneur Activities,Training
LOCATION:Swiss-Bel Hotel Kuantan\, Pahang\, Swiss-Bel Hotel Kuantan\, Pahan
 g\, Malaysia
X-APPLE-STRUCTURED-LOCATION;VALUE=URI;X-ADDRESS=Swiss-Bel Hotel Kuantan\, P
 ahang\, Malaysia;X-APPLE-RADIUS=100;X-TITLE=Swiss-Bel Hotel Kuantan\, Paha
 ng:geo:0,0
END:VEVENT
END:VCALENDAR