BEGIN:VCALENDAR
VERSION:2.0
PRODID:-//wp-events-plugin.com//6.6.3//EN
BEGIN:VEVENT
UID:37@punb.benova.com.my
DTSTART:20240511T080000Z
DTEND:20240511T170000Z
DTSTAMP:20241206T075336Z
URL:https://punb.benova.com.my/events/women-wellness-and-inspirational-sum
 mit-2024/
SUMMARY:Women Wellness and Inspirational Summit 2024
DESCRIPTION:Klik di sini untuk Pendaftaran / Pengesahan Kehadiran.
CATEGORIES:Calendar of Activities
LOCATION:Hotel Perdana Kota Bharu\, Kelantan\, Hotel Perdana Kota Bharu\, K
 elantan\, Malaysia
X-APPLE-STRUCTURED-LOCATION;VALUE=URI;X-ADDRESS=Hotel Perdana Kota Bharu\, 
 Kelantan\, Malaysia;X-APPLE-RADIUS=100;X-TITLE=Hotel Perdana Kota Bharu\, 
 Kelantan:geo:0,0
END:VEVENT
END:VCALENDAR