BEGIN:VCALENDAR
VERSION:2.0
PRODID:-//wp-events-plugin.com//6.6.3//EN
BEGIN:VEVENT
UID:158@punb.benova.com.my
DTSTART:20240925T083000Z
DTEND:20240925T173000Z
DTSTAMP:20241211T061440Z
URL:https://punb.benova.com.my/events/sesi-perkongsian-pengalaman-usahawan
 -wilayah-sarawak/
SUMMARY:Sesi Perkongsian Pengalaman Usahawan Wilayah Sarawak
DESCRIPTION:
CATEGORIES:Entrepreneur Activities,Training
LOCATION:Sheraton Hotel\, Kuching\, Sarawak\, Sheraton Hotel\, Kuching\, Sa
 rawak\, Malaysia
X-APPLE-STRUCTURED-LOCATION;VALUE=URI;X-ADDRESS=Sheraton Hotel\, Kuching\, 
 Sarawak\, Malaysia;X-APPLE-RADIUS=100;X-TITLE=Sheraton Hotel\, Kuching\, S
 arawak:geo:0,0
END:VEVENT
END:VCALENDAR