BEGIN:VCALENDAR
VERSION:2.0
PRODID:-//wp-events-plugin.com//6.6.3//EN
BEGIN:VEVENT
UID:59@punb.benova.com.my
DTSTART:20240725T090000Z
DTEND:20240727T170000Z
DTSTAMP:20241209T024036Z
URL:https://punb.benova.com.my/events/selangor-international-business-summ
 it/
SUMMARY:Selangor International Business Summit
DESCRIPTION:Klik di sini untuk Pendaftaran / Pengesahan Kehadiran.
CATEGORIES:Calendar of Activities
LOCATION:Pusat Konvensyen Kuala Lumpur (KLCC)\, Hall 1-4\, Ground Floor\, K
 uala Lumpur \, Malaysia
X-APPLE-STRUCTURED-LOCATION;VALUE=URI;X-ADDRESS=Hall 1-4\, Ground Floor\, K
 uala Lumpur \, Malaysia;X-APPLE-RADIUS=100;X-TITLE=Pusat Konvensyen Kuala 
 Lumpur (KLCC):geo:0,0
END:VEVENT
END:VCALENDAR