BEGIN:VCALENDAR
VERSION:2.0
PRODID:-//wp-events-plugin.com//6.6.3//EN
BEGIN:VEVENT
UID:28@punb.benova.com.my
DTSTART:20240308T080000Z
DTEND:20240310T190000Z
DTSTAMP:20241206T070613Z
URL:https://punb.benova.com.my/events/sabah-international-food-expo-sifex-
 2024/
SUMMARY:Sabah International Food Expo (SIFEX) 2024
DESCRIPTION:
ATTACH;FMTTYPE=image/jpeg:https://punb.benova.com.my/wp-content/uploads/20
 24/12/karnival-usahawan-terengganu-2024-img.jpg
CATEGORIES:Calendar of Activities
LOCATION:Sabah International Convention Centre (SICC)\, Sabah\, Sabah Inter
 national Convention Centre (SICC)\, Sabah\, Malaysia
X-APPLE-STRUCTURED-LOCATION;VALUE=URI;X-ADDRESS=Sabah International Convent
 ion Centre (SICC)\, Sabah\, Malaysia;X-APPLE-RADIUS=100;X-TITLE=Sabah Inte
 rnational Convention Centre (SICC)\, Sabah:geo:0,0
END:VEVENT
END:VCALENDAR