BEGIN:VCALENDAR
VERSION:2.0
PRODID:-//wp-events-plugin.com//6.6.3//EN
BEGIN:VEVENT
UID:55@punb.benova.com.my
DTSTART:20240718T083000Z
DTEND:20240718T170000Z
DTSTAMP:20241209T022248Z
URL:https://punb.benova.com.my/events/retail-up-roadshow-edisi-wilayah-sel
 atan/
SUMMARY:Retail Up! Roadshow Edisi Wilayah Selatan
DESCRIPTION:Klik di sini untuk Pendaftaran / Pengesahan Kehadiran.\n\n\n\n\
 n\n
ATTACH;FMTTYPE=image/jpeg:https://punb.benova.com.my/wp-content/uploads/20
 24/12/retail-up-roadshow-edisi-wilayah-selatan-img1.jpg
CATEGORIES:Calendar of Activities
LOCATION:Philea Resort & Spa\, Melaka\, Lot 2940\, Jalan Ayer Keroh\, Off J
 alan Plaza Tol\, Ayer Keroh\, 75450 \, Melaka\, Malaysia
X-APPLE-STRUCTURED-LOCATION;VALUE=URI;X-ADDRESS=Lot 2940\, Jalan Ayer Keroh
 \, Off Jalan Plaza Tol\, Ayer Keroh\, 75450 \, Melaka\, Malaysia;X-APPLE-R
 ADIUS=100;X-TITLE=Philea Resort & Spa\, Melaka:geo:0,0
END:VEVENT
END:VCALENDAR