BEGIN:VCALENDAR
VERSION:2.0
PRODID:-//wp-events-plugin.com//6.6.3//EN
BEGIN:VEVENT
UID:153@punb.benova.com.my
DTSTART:20240901T080000Z
DTEND:20240903T220000Z
DTSTAMP:20241211T055844Z
URL:https://punb.benova.com.my/events/program-latihan-pembangunan-mentor-2
 024-2/
SUMMARY:Program Latihan Pembangunan Mentor 2024
DESCRIPTION:
CATEGORIES:Entrepreneur Activities,Training
LOCATION:Kuantan\, Pahang\, Kuantan\, Pahang\, Malaysia
X-APPLE-STRUCTURED-LOCATION;VALUE=URI;X-ADDRESS=Kuantan\, Pahang\, Malaysia
 ;X-APPLE-RADIUS=100;X-TITLE=Kuantan\, Pahang:geo:0,0
END:VEVENT
END:VCALENDAR