BEGIN:VCALENDAR
VERSION:2.0
PRODID:-//wp-events-plugin.com//6.6.3//EN
BEGIN:VEVENT
UID:30@punb.benova.com.my
DTSTART:20240326T090000Z
DTEND:20240327T170000Z
DTSTAMP:20241206T071609Z
URL:https://punb.benova.com.my/events/program-induksi-usahawan-punb-secara
 -dalam-talian/
SUMMARY:Program Induksi Usahawan PUNB (Secara Dalam Talian)
DESCRIPTION:Khas kepada usahawan yang lulus pembiayaan sahaja\n\nPautan pro
 gram akan diberikan melalui aplikasi WEBINARJAM.
CATEGORIES:Calendar of Activities
LOCATION:#
END:VEVENT
END:VCALENDAR