BEGIN:VCALENDAR
VERSION:2.0
PRODID:-//wp-events-plugin.com//6.6.3//EN
BEGIN:VEVENT
UID:191@punb.benova.com.my
DTSTART:20240528T083000Z
DTEND:20240529T173000Z
DTSTAMP:20241211T085027Z
URL:https://punb.benova.com.my/events/pemasaran-berkesan-teknik-kaedah-per
 khidmatan-pelanggan-2/
SUMMARY:Pemasaran Berkesan: Teknik\, Kaedah & Perkhidmatan Pelanggan
DESCRIPTION:
CATEGORIES:Entrepreneur Activities,Training
LOCATION:Hotel Grand Paragon\, Johor Bahru\, Hotel Grand Paragon\, Johor Ba
 hru\, Johor\, Malaysia
X-APPLE-STRUCTURED-LOCATION;VALUE=URI;X-ADDRESS=Hotel Grand Paragon\, Johor
  Bahru\, Johor\, Malaysia;X-APPLE-RADIUS=100;X-TITLE=Hotel Grand Paragon\,
  Johor Bahru:geo:0,0
END:VEVENT
END:VCALENDAR