BEGIN:VCALENDAR
VERSION:2.0
PRODID:-//wp-events-plugin.com//6.6.3//EN
BEGIN:VEVENT
UID:129@punb.benova.com.my
DTSTART:20241123T070000Z
DTEND:20241123T143000Z
DTSTAMP:20241210T055228Z
URL:https://punb.benova.com.my/events/pameran-program-santuni-madani-kampu
 ng-kuantan/
SUMMARY:Pameran - Program Santuni MADANI Kampung Kuantan
DESCRIPTION:
CATEGORIES:Calendar of Activities
LOCATION:Dataran Taman Kelip-Kelip Kampung Kuantan\, Kuala Selangor\, Selan
 gor\, Dataran Taman Kelip-Kelip Kampung Kuantan\, Kuala Selangor\, Selango
 r\, Malaysia
X-APPLE-STRUCTURED-LOCATION;VALUE=URI;X-ADDRESS=Dataran Taman Kelip-Kelip K
 ampung Kuantan\, Kuala Selangor\, Selangor\, Malaysia;X-APPLE-RADIUS=100;X
 -TITLE=Dataran Taman Kelip-Kelip Kampung Kuantan\, Kuala Selangor\, Selang
 or:geo:0,0
END:VEVENT
END:VCALENDAR