BEGIN:VCALENDAR
VERSION:2.0
PRODID:-//wp-events-plugin.com//6.6.3//EN
BEGIN:VEVENT
UID:135@punb.benova.com.my
DTSTART:20241206T080000Z
DTEND:20241208T173000Z
DTSTAMP:20241210T061455Z
URL:https://punb.benova.com.my/events/pameran-program-jelajah-karnival-kpd
 n-zon-selatan-tahun-2024/
SUMMARY:Pameran - Program Jelajah Karnival KPDN Zon Selatan Tahun 2024
DESCRIPTION:Klik di sini untuk Pendaftaran / Pengesahan Kehadiran.
CATEGORIES:Calendar of Activities
LOCATION:Dataran Sejarah\, Ayer Keroh\, Melaka\, Dataran Sejarah\, Ayer Ker
 oh\, Melaka\, Malaysia
X-APPLE-STRUCTURED-LOCATION;VALUE=URI;X-ADDRESS=Dataran Sejarah\, Ayer Kero
 h\, Melaka\, Malaysia;X-APPLE-RADIUS=100;X-TITLE=Dataran Sejarah\, Ayer Ke
 roh\, Melaka:geo:0,0
END:VEVENT
END:VCALENDAR