BEGIN:VCALENDAR
VERSION:2.0
PRODID:-//wp-events-plugin.com//6.6.3//EN
BEGIN:VEVENT
UID:218@punb.benova.com.my
DTSTART:20241220T100000Z
DTEND:20241222T190000Z
DTSTAMP:20241213T071922Z
URL:https://punb.benova.com.my/events/pameran-melaka-international-halal-f
 estival-2024-2/
SUMMARY:Pameran - Melaka International Halal Festival 2024
DESCRIPTION:Klik di sini untuk Pendaftaran / Pengesahan Kehadiran.
CATEGORIES:Business Financing Activities
LOCATION:Melaka International Trada Centre (MITC)\, Ayer Keroh\, Melaka\, M
 elaka International Trade Centre (MITC)\, Ayer Keroh\, Melaka\, Malaysia
X-APPLE-STRUCTURED-LOCATION;VALUE=URI;X-ADDRESS=Melaka International Trade 
 Centre (MITC)\, Ayer Keroh\, Melaka\, Malaysia;X-APPLE-RADIUS=100;X-TITLE=
 Melaka International Trada Centre (MITC)\, Ayer Keroh\, Melaka:geo:0,0
END:VEVENT
END:VCALENDAR