BEGIN:VCALENDAR
VERSION:2.0
PRODID:-//wp-events-plugin.com//6.6.3//EN
BEGIN:VEVENT
UID:42@punb.benova.com.my
DTSTART:20240606T090000Z
DTEND:20240606T170000Z
DTSTAMP:20241206T082631Z
URL:https://punb.benova.com.my/events/ohsem-marketing-360-2024/
SUMMARY:OHSEM Marketing 360 2024
DESCRIPTION:Klik di sini untuk Pendaftaran / Pengesahan Kehadiran.
ATTACH;FMTTYPE=image/jpeg:https://punb.benova.com.my/wp-content/uploads/20
 24/12/ohsem-marketing-360-2024.jpeg
CATEGORIES:Calendar of Activities
LOCATION:World Trade Centre Kuala Lumpur\, 41\, Jalan Tun Ismail\, Chow Kit
 \, Kuala Lumpur\, Wilayah Persekutuan Kuala Lumpur\, 50480\, Malaysia
X-APPLE-STRUCTURED-LOCATION;VALUE=URI;X-ADDRESS=41\, Jalan Tun Ismail\, Cho
 w Kit\, Kuala Lumpur\, Wilayah Persekutuan Kuala Lumpur\, 50480\, Malaysia
 ;X-APPLE-RADIUS=100;X-TITLE=World Trade Centre Kuala Lumpur:geo:0,0
END:VEVENT
END:VCALENDAR