BEGIN:VCALENDAR
VERSION:2.0
PRODID:-//wp-events-plugin.com//6.6.3//EN
BEGIN:VEVENT
UID:148@punb.benova.com.my
DTSTART:20241119T083000Z
DTEND:20241120T173000Z
DTSTAMP:20241211T054253Z
URL:https://punb.benova.com.my/events/motivasi-jati-diri-wilayah-selatan-2
 024/
SUMMARY:Motivasi & Jati Diri Wilayah Selatan 2024
DESCRIPTION:
CATEGORIES:Entrepreneur Activities,Training
LOCATION:Savanna Hill\, Ulu Tiram\, Johor\, Savanna Hill\, Ulu Tiram\, Joho
 r\, Malaysia
X-APPLE-STRUCTURED-LOCATION;VALUE=URI;X-ADDRESS=Savanna Hill\, Ulu Tiram\, 
 Johor\, Malaysia;X-APPLE-RADIUS=100;X-TITLE=Savanna Hill\, Ulu Tiram\, Joh
 or:geo:0,0
END:VEVENT
END:VCALENDAR