BEGIN:VCALENDAR
VERSION:2.0
PRODID:-//wp-events-plugin.com//6.6.3//EN
BEGIN:VEVENT
UID:38@punb.benova.com.my
DTSTART:20240522T100000Z
DTEND:20240526T220000Z
DTSTAMP:20241206T080126Z
URL:https://punb.benova.com.my/events/malaysia-autoshow-2024/
SUMMARY:Malaysia Autoshow 2024
DESCRIPTION:Klik di sini untuk Pendaftaran / Pengesahan Kehadiran.
ATTACH;FMTTYPE=image/jpeg:https://punb.benova.com.my/wp-content/uploads/20
 24/12/malaysia-autoshow-2024-img.jpg
CATEGORIES:Calendar of Activities
LOCATION:MAEPS\, Serdang\, MAEPS\, Serdang\, Selangor\, Malaysia
X-APPLE-STRUCTURED-LOCATION;VALUE=URI;X-ADDRESS=MAEPS\, Serdang\, Selangor\
 , Malaysia;X-APPLE-RADIUS=100;X-TITLE=MAEPS\, Serdang:geo:0,0
END:VEVENT
END:VCALENDAR