BEGIN:VCALENDAR
VERSION:2.0
PRODID:-//wp-events-plugin.com//6.6.3//EN
BEGIN:VEVENT
UID:23@punb.benova.com.my
DTSTART:20240229T083000Z
DTEND:20240302T173000Z
DTSTAMP:20241206T064928Z
URL:https://punb.benova.com.my/events/karnival-hasil-2024/
SUMMARY:Karnival HASiL 2024
DESCRIPTION:
CATEGORIES:Calendar of Activities
LOCATION:Manara HASiL\, Cyberjaya\, Menara HASiL\, Cyberjaya\, Selangor\, 6
 3000\, Malaysia
X-APPLE-STRUCTURED-LOCATION;VALUE=URI;X-ADDRESS=Menara HASiL\, Cyberjaya\, 
 Selangor\, 63000\, Malaysia;X-APPLE-RADIUS=100;X-TITLE=Manara HASiL\, Cybe
 rjaya:geo:0,0
END:VEVENT
END:VCALENDAR