BEGIN:VCALENDAR
VERSION:2.0
PRODID:-//wp-events-plugin.com//6.6.3//EN
BEGIN:VEVENT
UID:105@punb.benova.com.my
DTSTART:20241016T100000Z
DTEND:20241016T123000Z
DTSTAMP:20241209T091855Z
URL:https://punb.benova.com.my/events/dalam-talian-taklimat-pembiayaan-per
 niagaan-punb/
SUMMARY:Dalam Talian - Taklimat Pembiayaan Perniagaan PUNB
DESCRIPTION:Sesi Penerangan Taklimat: 10.00 am - 12.30 pm
ATTACH;FMTTYPE=image/jpeg:https://punb.benova.com.my/wp-content/uploads/20
 24/12/bersemuka-taklimat-pembiayaan-perniagaan-punb-3-img.jpg
CATEGORIES:Calendar of Activities,Pre-training
LOCATION:https://event.webinarjam.com/channel/Taklimat_PUNB
END:VEVENT
END:VCALENDAR