BEGIN:VCALENDAR
VERSION:2.0
PRODID:-//wp-events-plugin.com//6.6.3//EN
BEGIN:VEVENT
UID:146@punb.benova.com.my
DTSTART:20241226T100000Z
DTEND:20241226T123000Z
DTSTAMP:20241210T064621Z
URL:https://punb.benova.com.my/events/dalam-talian-taklimat-pembiayaan-per
 niagaan-punb-5/
SUMMARY:Dalam Talian - Taklimat Pembiayaan Perniagaan PUNB
DESCRIPTION:Sesi Penerangan Taklimat: 10.00 am - 12.30 pm\n\nKlik di sini u
 ntuk Pendaftaran / Pengesahan Kehadiran.
CATEGORIES:Calendar of Activities,Pre-training
LOCATION:https://event.webinarjam.com/channel/Taklimat_PUNB
END:VEVENT
END:VCALENDAR