BEGIN:VCALENDAR
VERSION:2.0
PRODID:-//wp-events-plugin.com//6.6.3//EN
BEGIN:VEVENT
UID:198@punb.benova.com.my
DTSTART:20240219T083000Z
DTEND:20240221T173000Z
DTSTAMP:20241211T091304Z
URL:https://punb.benova.com.my/events/customer-service-customer-behaviour-
 2/
SUMMARY:Customer Service & Customer Behaviour
DESCRIPTION:
CATEGORIES:Entrepreneur Activities,Training
LOCATION:Royal Chulan Damansara\, Selangor\, Royal Chulan Damansara\, Selan
 gor\, Malaysia
X-APPLE-STRUCTURED-LOCATION;VALUE=URI;X-ADDRESS=Royal Chulan Damansara\, Se
 langor\, Malaysia;X-APPLE-RADIUS=100;X-TITLE=Royal Chulan Damansara\, Sela
 ngor:geo:0,0
END:VEVENT
END:VCALENDAR