BEGIN:VCALENDAR
VERSION:2.0
PRODID:-//wp-events-plugin.com//6.6.3//EN
BEGIN:VEVENT
UID:113@punb.benova.com.my
DTSTART:20241026T103000Z
DTEND:20241026T163000Z
DTSTAMP:20241210T014402Z
URL:https://punb.benova.com.my/events/bersemuka-bengkel-rancangan-perniaga
 an-punb/
SUMMARY:Bersemuka - Bengkel Rancangan Perniagaan PUNB
DESCRIPTION:
ATTACH;FMTTYPE=image/jpeg:https://punb.benova.com.my/wp-content/uploads/20
 24/12/bersemuka-bengkel-rancangan-perniagaan-punb-img.jpg
CATEGORIES:Calendar of Activities,Pre-training
LOCATION:Sabah International Convention Centre (SICC)\, Sabah\, Sabah Inter
 national Convention Centre (SICC)\, Sabah\, Malaysia
X-APPLE-STRUCTURED-LOCATION;VALUE=URI;X-ADDRESS=Sabah International Convent
 ion Centre (SICC)\, Sabah\, Malaysia;X-APPLE-RADIUS=100;X-TITLE=Sabah Inte
 rnational Convention Centre (SICC)\, Sabah:geo:0,0
END:VEVENT
END:VCALENDAR