BEGIN:VCALENDAR
VERSION:2.0
PRODID:-//wp-events-plugin.com//6.6.3//EN
BEGIN:VEVENT
UID:96@punb.benova.com.my
DTSTART:20240926T100000Z
DTEND:20240926T120000Z
DTSTAMP:20241209T081257Z
URL:https://punb.benova.com.my/events/bengkel-rancangan-perniagaan-punb-ta
 tacara-permohonan-online/
SUMMARY:Bengkel Rancangan Perniagaan PUNB & Tatacara Permohonan Online
DESCRIPTION:Sesi Penerangan Taklimat: 10.00 am
CATEGORIES:Calendar of Activities,Pre-training
LOCATION:#
END:VEVENT
END:VCALENDAR