BEGIN:VCALENDAR
VERSION:2.0
PRODID:-//wp-events-plugin.com//6.6.3//EN
BEGIN:VEVENT
UID:46@punb.benova.com.my
DTSTART:20240625T103000Z
DTEND:20240625T163000Z
DTSTAMP:20241209T004813Z
URL:https://punb.benova.com.my/events/bengkel-penyediaan-rancangan-perniag
 aan-secara-dalam-talian-5/
SUMMARY:Bengkel Penyediaan Rancangan Perniagaan (Secara Dalam Talian)
DESCRIPTION:Kelas Webinar: 10.30 am - 12.30 pm\n\nPerbincangan Dalam Talian
 : 2.30 pm - 4.30 pm\n\nKlik di sini untuk Pendaftaran / Pengesahan Kehadir
 an.
ATTACH;FMTTYPE=image/jpeg:https://punb.benova.com.my/wp-content/uploads/20
 24/12/taklimat-pembiayaan-perniagaan-punb-secara-dalam-talian-7-img.jpg
CATEGORIES:Calendar of Activities,Pre-training
LOCATION:https://www.surveymonkey.com/r/RPdanEMohon2024
END:VEVENT
END:VCALENDAR